BEGIN:VCALENDAR
VERSION:2.0
PRODID:-//Native Plant Initiative of Greater New Orleans - ECPv6.15.20//NONSGML v1.0//EN
CALSCALE:GREGORIAN
METHOD:PUBLISH
X-WR-CALNAME:Native Plant Initiative of Greater New Orleans
X-ORIGINAL-URL:https://npi-gno.org
X-WR-CALDESC:Events for Native Plant Initiative of Greater New Orleans
REFRESH-INTERVAL;VALUE=DURATION:PT1H
X-Robots-Tag:noindex
X-PUBLISHED-TTL:PT1H
BEGIN:VTIMEZONE
TZID:UTC
BEGIN:STANDARD
TZOFFSETFROM:+0000
TZOFFSETTO:+0000
TZNAME:UTC
DTSTART:20230101T000000
END:STANDARD
END:VTIMEZONE
BEGIN:VEVENT
DTSTART;TZID=UTC:20240731T090000
DTEND;TZID=UTC:20260510T160000
DTSTAMP:20260422T052045
CREATED:20240722T004209Z
LAST-MODIFIED:20250517T151649Z
UID:3819-1722416400-1778428800@npi-gno.org
SUMMARY:Botanica: Gardens\, Landscapes\, and Plant Medicines in South Louisiana
DESCRIPTION:Cabildo/Louisiana State Museum. Until Sunday May 10\, 2026 \nThis exhibition explores the cultural meaning of Louisiana medicinal plants and how historically based understandings of them are evolving under the threat of climate change and land loss. Guest curators Rachel Breunlin and Monique Verdin collaborate with herbalists\, artists\, gardeners\, and scholars to place into context stories of historical and contemporary gardens and natural environments. \nBotanica is rooted in a series of interviews conducted by Rachel Breunlin and Monique Verdin as part of the Bayou Culture Collaborative\, which operates under the auspices of the Louisiana Division of the Arts Folklife Program and the Louisiana Folklore Society. The Collaborative seeks to document cultural traditions as Louisiana faces land loss and a changing environment. As part of that project\, Breunlin and Verdin interviewed a range of gardeners and plant specialists\, including Tammy Greer\, a United Houma Nation medicine wheel steward; mutual aid medicine makers from the Bvlbancha Collective; and Maypop Herb Shop folk herbalist Rachael Reeves. Through these interviews\, excerpted at listening stations\, along with historic and contemporary artifacts\, photographs\, and paintings from the Louisiana State Museum’s collection as well as from a few private lenders\, the exhibition explores the history and understanding of medicinal plants\, such as yaupon\, Auricularia (jelly ear) mushrooms\, and cleavers\, in a range of rural and urban communities that draw on different cultural traditions\, including those of Native peoples\, Louisiana French cultures\, and African Americans. Botanica weaves together these strands to immerse museum visitors in a world of Louisiana plants\, traditional healing cultures\, and the people\, past and present\, who make up those cultures. \nThis exhibition will be open at the Cabildo until May 10\, 2026.
URL:https://npi-gno.org/event/botanica-gardens-landscapes-and-plant-medicines-in-south-louisiana/
LOCATION:Cabildo/Louisiana State Museum\, The Cabildo\, 701 Chartres St\, New Orleans\, LA 70130\, New Orleans\, Louisiana
CATEGORIES:Exhibition
ATTACH;FMTTYPE=image/png:https://npi-gno.org/wp-content/uploads/2024/07/botanica-e1747494997423.png
END:VEVENT
BEGIN:VEVENT
DTSTART;TZID=UTC:20240907T080000
DTEND;TZID=UTC:20240907T080000
DTSTAMP:20260422T052045
CREATED:20240828T014409Z
LAST-MODIFIED:20240828T014409Z
UID:3863-1725696000-1725696000@npi-gno.org
SUMMARY:The Cajun Prairie Habitat Preservation Society Tour of Eunice Prairie and Fall meeting
DESCRIPTION:The Cajun Prairie Habitat Preservation Society will be having our annual peak blazing star tour of the Eunice Prairie at 8:00 AM on Saturday\, September 7th. The prairie is located at 650 E Magnolia in Eunice (parking lot: 30.4988\, -92.4079). \nThe tour will be followed by our “fall” meeting — starting at 10:30 AM — and we’re glad to say we’re again being welcomed by the Acadian Baptist Center over in Richard\, LA (between Eunice and Church Point) 1202 Academy Dr\, Eunice\, LA. The meeting will be preceded by talks and followed by lunch in their dining room — and I have no doubt that it’ll be just as good as last time! \nThe Acadian Baptist Center has about 90 acres planted with a variety of native species\, comprising a range of different plant communities — including a significant prairie planting that we’ll be sure to check out again! \nHopefully we will get a good show of Liatris (épinette de prairie)\, Arnoglossum (plantain chauvage) and Silphium (plante-boursole).  As always\, please bring plants to donate to the plant auction!
URL:https://npi-gno.org/event/the-cajun-prairie-habitat-preservation-society-tour-of-eunice-prairie-and-fall-meeting/
END:VEVENT
BEGIN:VEVENT
DTSTART;TZID=UTC:20240914T080000
DTEND;TZID=UTC:20240914T120000
DTSTAMP:20260422T052045
CREATED:20240808T011145Z
LAST-MODIFIED:20240808T011145Z
UID:3838-1726300800-1726315200@npi-gno.org
SUMMARY:BTNEP Native Plant Giveaway | Saturday\, September 14\, 2024\, 8 - 12 pm
DESCRIPTION:Barataria-Terrebonne National Estuary Program (BTNEP) will give away native plants at the BTNEP native plant nursery/Nicholls Farm\, 906 Thoroughbred Park Dr.\, Thibodaux\, LA  701301
URL:https://npi-gno.org/event/btnep-native-plant-giveaway-saturday-september-14-2024-8-12-pm/
END:VEVENT
BEGIN:VEVENT
DTSTART;TZID=UTC:20240915T133000
DTEND;TZID=UTC:20240915T153000
DTSTAMP:20260422T052045
CREATED:20240828T013835Z
LAST-MODIFIED:20240828T013835Z
UID:3860-1726407000-1726414200@npi-gno.org
SUMMARY:Creating Overwintering Habitat for Beneficial Insects
DESCRIPTION:
URL:https://npi-gno.org/event/creating-overwintering-habitat-for-beneficial-insects/
END:VEVENT
BEGIN:VEVENT
DTSTART;TZID=UTC:20240921T110000
DTEND;TZID=UTC:20240921T130000
DTSTAMP:20260422T052045
CREATED:20230518T165220Z
LAST-MODIFIED:20240611T010319Z
UID:3296-1726916400-1726923600@npi-gno.org
SUMMARY:more Seed Packing for Mardi Gras at NOLA Brewing
DESCRIPTION:A second round of seed packing for Mardi Gras throws is scheduled with Grounds Krewe at NOLA Brewing. Family and dog friendly!
URL:https://npi-gno.org/event/more-seed-packing-for-mardi-gras/
LOCATION:NOLA Brewing\, 3001 Tchoupitoulas
ATTACH;FMTTYPE=image/png:https://npi-gno.org/wp-content/uploads/2022/08/Ground-Krewe.png
END:VEVENT
BEGIN:VEVENT
DTSTART;TZID=UTC:20240929T140000
DTEND;TZID=UTC:20240929T153000
DTSTAMP:20260422T052045
CREATED:20240822T004111Z
LAST-MODIFIED:20240822T004111Z
UID:3855-1727618400-1727623800@npi-gno.org
SUMMARY:PLANTFEST! Teaser 2024
DESCRIPTION:Featuring: Dr. Jenneke Visser\nSunday\, September 29\, 2-3:30 pm\n  \n \nDr. Jenneke Visser\, coastal scientist and devoted Hilltop Hodge Podge volunteer will present her “Top 25 Garden Plants” on Sunday\, September 29\, from 2-3:30 pm in the Beverly Brown Coates Auditorium at LSU Hilltop Arboretum\, 11855 Highland Road in Baton Rouge. To put the “tease” in this annual PLANTFEST! pre-quel\, one of each of the plants discussed will be raffled off for purchase. Enter the raffle for your chance to bring home your favorite plant prior to the sale!\nJoin us for a post-program “walkabout” through the Hodge Podge Nursery where the plant arena will be set up with plants in their final nestling place for PLANTFEST! What better occasion to start your plant list and check it twice\, to determine which plants will be naughty or nice in your yard!   \nDr. Jenneke Visser has worked in and researched coastal Louisiana for more than 25 years. In addition to teaching at University of LA Lafayette and serving as Associate Director of the Institute for Coastal and Water Research\, she has been an advisor on several coastal wetland restoration planning efforts and has made significant contributions to restoration outcome forecasting.  Jenneke is a reliable and dedicated Hilltop volunteer and co-authored the Friends of Hilltop Arboretum’s “Native Plant Designation: Definitions\, Methodology\, and Procedure”. \nRegistration is free for members of the Friends of Hilltop at the Azalea ($50) level and above; $25 for the public and members below the Azalea level; and $20 for students. For additional information about PLANTFEST!\, to register for the Teaser\, or to become a member\, visit www.lsu.edu/hilltop or email hilltop@lsu.edu.
URL:https://npi-gno.org/event/plantfest-teaser-2024/
END:VEVENT
END:VCALENDAR