BEGIN:VCALENDAR
VERSION:2.0
PRODID:-//Native Plant Initiative of Greater New Orleans - ECPv6.15.20//NONSGML v1.0//EN
CALSCALE:GREGORIAN
METHOD:PUBLISH
X-WR-CALNAME:Native Plant Initiative of Greater New Orleans
X-ORIGINAL-URL:https://npi-gno.org
X-WR-CALDESC:Events for Native Plant Initiative of Greater New Orleans
REFRESH-INTERVAL;VALUE=DURATION:PT1H
X-Robots-Tag:noindex
X-PUBLISHED-TTL:PT1H
BEGIN:VTIMEZONE
TZID:UTC
BEGIN:STANDARD
TZOFFSETFROM:+0000
TZOFFSETTO:+0000
TZNAME:UTC
DTSTART:20200101T000000
END:STANDARD
END:VTIMEZONE
BEGIN:VEVENT
DTSTART;TZID=UTC:20210417T090000
DTEND;TZID=UTC:20210417T110000
DTSTAMP:20260422T173536
CREATED:20210406T183314Z
LAST-MODIFIED:20210409T193044Z
UID:2459-1618650000-1618657200@npi-gno.org
SUMMARY:Penstemon Party ***Now April 17th***
DESCRIPTION:The date for the Penstemon Party has been changed to Saturday April 17th!  See ya’ll there! \n \n 
URL:https://npi-gno.org/event/penstemon-party/
LOCATION:620 Heritage Avenue\, Terrytown\, LA 70056\, 620 Heritage Ave\, Terrytown\, LA\, 70056\, United States
END:VEVENT
BEGIN:VEVENT
DTSTART;TZID=UTC:20210416T160000
DTEND;TZID=UTC:20210416T170000
DTSTAMP:20260422T173536
CREATED:20210406T185031Z
LAST-MODIFIED:20210406T185031Z
UID:2474-1618588800-1618592400@npi-gno.org
SUMMARY:Gentilly Resilience District (GRD) Neighborhood Engagement Day
DESCRIPTION:Between 4-5pm\, community members will be encouraged to meet at 2100 Leon C. Simon Dr.\, across the street from Ben Franklin High School by the Mosquito Control Board\, to plant their seed balls and scatter seeds for the creation of a new Native Wildflower Meadow.  Help will be needed there as well\, instructing on scattering and pushing the seedballs into the prepared bed. \nA community conversation is scheduled for 5 pm that day. \nQuestions or to volunteer\, Email Courtney Egan .
URL:https://npi-gno.org/event/gentilly-resilience-district-grd-neighborhood-engagement-day/
ORGANIZER;CN="Courtney Egan":MAILTO:courtney@courtneyegan.net
END:VEVENT
BEGIN:VEVENT
DTSTART;TZID=UTC:20210331T090000
DTEND;TZID=UTC:20210331T120000
DTSTAMP:20260422T173536
CREATED:20210326T211017Z
LAST-MODIFIED:20210326T211017Z
UID:2391-1617181200-1617192000@npi-gno.org
SUMMARY:Rosa Keller Library Garden Workday
DESCRIPTION:Join us to plant\, weed\, and install edging at the Keller Library.  Come when you can and stay for as long as you want.  Afterwards\,  lunch at el Pavo Real across the street – and you could join us for that part alone if that works for you!
URL:https://npi-gno.org/event/rosa-keller-library-garden-workday/
LOCATION:Rosa Keller Library\, 4300 S Broad Avenue\, New Orleans\, LA\, 70125\, United States
ORGANIZER;CN="Nell Howard":MAILTO:nelliebell232@gmail.com
END:VEVENT
BEGIN:VEVENT
DTSTART;TZID=UTC:20210320T090000
DTEND;TZID=UTC:20210320T130000
DTSTAMP:20260422T173536
CREATED:20210302T054449Z
LAST-MODIFIED:20210302T054834Z
UID:2254-1616230800-1616245200@npi-gno.org
SUMMARY:Big Lake Trail - Matrix Planting
DESCRIPTION:We will be joined again by the New Orleans Town Gardeners for an exciting new planting along the Big Lake Native Plant Trail.  This large area was cleared and prepared by volunteers in November with cardboard sheeting and heavy mulch.  Now\, we are planting over 1000 native plants in a planned matrix where they will intermingle and weave together in a native prairie-inspired design.  All plants are in small containers\, so planting should not be too strenuous….many hands make light work!
URL:https://npi-gno.org/event/march-20th-big-lake-prairie-planting/
LOCATION:New Orleans City Park Big Lake Native Plant Trail\, Friedrichs Avenue\, New Orleans\, LA\, United States
END:VEVENT
BEGIN:VEVENT
DTSTART;TZID=UTC:20210227T083000
DTEND;TZID=UTC:20210227T103000
DTSTAMP:20260422T173536
CREATED:20210206T021726Z
LAST-MODIFIED:20210218T223912Z
UID:2208-1614414600-1614421800@npi-gno.org
SUMMARY:Crazy for Coreopsis - Plant Giveaway
DESCRIPTION:For info on growing coreopsis see this article written by Tammany Baumgarten\, president of NPI-GNO.
URL:https://npi-gno.org/event/crazy-for-coreopsis-plant-giveaway/
LOCATION:Sankofa Nature Trail & Wetland Park\, 6401 Florida Avenue\, New Orleans\, LA\, United States
END:VEVENT
BEGIN:VEVENT
DTSTART;TZID=UTC:20210220T083000
DTEND;TZID=UTC:20210220T103000
DTSTAMP:20260422T173536
CREATED:20210206T020955Z
LAST-MODIFIED:20210206T021830Z
UID:2204-1613809800-1613817000@npi-gno.org
SUMMARY:Crazy for Coreopsis Giveaway
DESCRIPTION:For info on growing coreopsis see this article written by Tammany Baumgarten\, president of NPI-GNO.
URL:https://npi-gno.org/event/crazy-for-coreopsis-giveaway/
LOCATION:First Grace United Methodist Church\, 3401 Canal St.\, New Orleans\, United States
END:VEVENT
END:VCALENDAR