BEGIN:VCALENDAR
VERSION:2.0
PRODID:-//Native Plant Initiative of Greater New Orleans - ECPv6.15.20//NONSGML v1.0//EN
CALSCALE:GREGORIAN
METHOD:PUBLISH
X-ORIGINAL-URL:https://npi-gno.org
X-WR-CALDESC:Events for Native Plant Initiative of Greater New Orleans
REFRESH-INTERVAL;VALUE=DURATION:PT1H
X-Robots-Tag:noindex
X-PUBLISHED-TTL:PT1H
BEGIN:VTIMEZONE
TZID:UTC
BEGIN:STANDARD
TZOFFSETFROM:+0000
TZOFFSETTO:+0000
TZNAME:UTC
DTSTART:20230101T000000
END:STANDARD
END:VTIMEZONE
BEGIN:VTIMEZONE
TZID:America/Chicago
BEGIN:DAYLIGHT
TZOFFSETFROM:-0600
TZOFFSETTO:-0500
TZNAME:CDT
DTSTART:20250309T080000
END:DAYLIGHT
BEGIN:STANDARD
TZOFFSETFROM:-0500
TZOFFSETTO:-0600
TZNAME:CST
DTSTART:20251102T070000
END:STANDARD
BEGIN:DAYLIGHT
TZOFFSETFROM:-0600
TZOFFSETTO:-0500
TZNAME:CDT
DTSTART:20260308T080000
END:DAYLIGHT
BEGIN:STANDARD
TZOFFSETFROM:-0500
TZOFFSETTO:-0600
TZNAME:CST
DTSTART:20261101T070000
END:STANDARD
BEGIN:DAYLIGHT
TZOFFSETFROM:-0600
TZOFFSETTO:-0500
TZNAME:CDT
DTSTART:20270314T080000
END:DAYLIGHT
BEGIN:STANDARD
TZOFFSETFROM:-0500
TZOFFSETTO:-0600
TZNAME:CST
DTSTART:20271107T070000
END:STANDARD
END:VTIMEZONE
BEGIN:VEVENT
DTSTART;TZID=UTC:20240731T090000
DTEND;TZID=UTC:20260510T160000
DTSTAMP:20260421T053332
CREATED:20240722T004209Z
LAST-MODIFIED:20250517T151649Z
UID:3819-1722416400-1778428800@npi-gno.org
SUMMARY:Botanica: Gardens\, Landscapes\, and Plant Medicines in South Louisiana
DESCRIPTION:Cabildo/Louisiana State Museum. Until Sunday May 10\, 2026 \nThis exhibition explores the cultural meaning of Louisiana medicinal plants and how historically based understandings of them are evolving under the threat of climate change and land loss. Guest curators Rachel Breunlin and Monique Verdin collaborate with herbalists\, artists\, gardeners\, and scholars to place into context stories of historical and contemporary gardens and natural environments. \nBotanica is rooted in a series of interviews conducted by Rachel Breunlin and Monique Verdin as part of the Bayou Culture Collaborative\, which operates under the auspices of the Louisiana Division of the Arts Folklife Program and the Louisiana Folklore Society. The Collaborative seeks to document cultural traditions as Louisiana faces land loss and a changing environment. As part of that project\, Breunlin and Verdin interviewed a range of gardeners and plant specialists\, including Tammy Greer\, a United Houma Nation medicine wheel steward; mutual aid medicine makers from the Bvlbancha Collective; and Maypop Herb Shop folk herbalist Rachael Reeves. Through these interviews\, excerpted at listening stations\, along with historic and contemporary artifacts\, photographs\, and paintings from the Louisiana State Museum’s collection as well as from a few private lenders\, the exhibition explores the history and understanding of medicinal plants\, such as yaupon\, Auricularia (jelly ear) mushrooms\, and cleavers\, in a range of rural and urban communities that draw on different cultural traditions\, including those of Native peoples\, Louisiana French cultures\, and African Americans. Botanica weaves together these strands to immerse museum visitors in a world of Louisiana plants\, traditional healing cultures\, and the people\, past and present\, who make up those cultures. \nThis exhibition will be open at the Cabildo until May 10\, 2026.
URL:https://npi-gno.org/event/botanica-gardens-landscapes-and-plant-medicines-in-south-louisiana/
LOCATION:Cabildo/Louisiana State Museum\, The Cabildo\, 701 Chartres St\, New Orleans\, LA 70130\, New Orleans\, Louisiana
CATEGORIES:Exhibition
ATTACH;FMTTYPE=image/png:https://npi-gno.org/wp-content/uploads/2024/07/botanica-e1747494997423.png
END:VEVENT
BEGIN:VEVENT
DTSTART;TZID=America/Chicago:20260508T090000
DTEND;TZID=America/Chicago:20260508T110000
DTSTAMP:20260421T053332
CREATED:20260410T191435Z
LAST-MODIFIED:20260410T192252Z
UID:5687-1778230800-1778238000@npi-gno.org
SUMMARY:Every Friday: Big Lake Native Plant Trail Restoration Project
DESCRIPTION:Put your gardening skills to work (and learn some new ones) at the Big Lake Native Plant Trail in New Orleans City Park (the trail is near the boat and bike rental on Friedrichs Avenue). Pull weeds\, prune\, plant\, and work with some of the most knowledgeable gardeners around. City Park provides tools\, clean gloves\, water\, and insect repellent or you can bring your own. Pick a Friday (or two? or more?) and sign up at the City Park Conservancy Volunteer Calendar of Events webpage. If you have questions\, email team leaders Susan Norris-Davis or Jennifer Prout.
URL:https://npi-gno.org/event/every-friday-big-lake-native-plant-trail-restoration-project-11/
LOCATION:Big Lake\, City Park\,  7 Freiderichs Ave
ORGANIZER;CN="City Park Conservancy":MAILTO:info@nocp.org
END:VEVENT
BEGIN:VEVENT
DTSTART;TZID=America/Chicago:20260512T170000
DTEND;TZID=America/Chicago:20260512T190000
DTSTAMP:20260421T053332
CREATED:20260309T001155Z
LAST-MODIFIED:20260309T001155Z
UID:5664-1778605200-1778612400@npi-gno.org
SUMMARY:Prune and Pull Rosa Keller Library
DESCRIPTION:The garden features a bioswale with native plants and trees that reduces stormwater runoff\, brightens the neighborhood with year-round blooms and pollinators\, and showcases the teamwork of NPI\, the New Orleans Public Library system\, the Master Gardeners of Greater New Orleans\, and the New Orleans Department of Parks and Parkways.
URL:https://npi-gno.org/event/prune-and-pull-rosa-keller-library-3/
LOCATION:Rosa F. Keller Library & Community Center\, 4300 South Broad in New Orleans\, New Orleans\, LA\, 70114-1389\, United States
END:VEVENT
BEGIN:VEVENT
DTSTART;TZID=America/Chicago:20260515T090000
DTEND;TZID=America/Chicago:20260515T110000
DTSTAMP:20260421T053332
CREATED:20260410T192245Z
LAST-MODIFIED:20260410T192245Z
UID:5695-1778835600-1778842800@npi-gno.org
SUMMARY:Every Friday: Big Lake Native Plant Trail Restoration Project
DESCRIPTION:Put your gardening skills to work (and learn some new ones) at the Big Lake Native Plant Trail in New Orleans City Park (the trail is near the boat and bike rental on Friedrichs Avenue). Pull weeds\, prune\, plant\, and work with some of the most knowledgeable gardeners around. City Park provides tools\, clean gloves\, water\, and insect repellent or you can bring your own. Pick a Friday (or two? or more?) and sign up at the City Park Conservancy Volunteer Calendar of Events webpage. If you have questions\, email team leaders Susan Norris-Davis or Jennifer Prout.
URL:https://npi-gno.org/event/every-friday-big-lake-native-plant-trail-restoration-project-13/
LOCATION:Big Lake\, City Park\,  7 Freiderichs Ave
ORGANIZER;CN="City Park Conservancy":MAILTO:info@nocp.org
END:VEVENT
BEGIN:VEVENT
DTSTART;TZID=America/Chicago:20260522T090000
DTEND;TZID=America/Chicago:20260522T110000
DTSTAMP:20260421T053332
CREATED:20260410T192102Z
LAST-MODIFIED:20260410T192102Z
UID:5693-1779440400-1779447600@npi-gno.org
SUMMARY:Every Friday: Big Lake Native Plant Trail Restoration Project
DESCRIPTION:Put your gardening skills to work (and learn some new ones) at the Big Lake Native Plant Trail in New Orleans City Park (the trail is near the boat and bike rental on Friedrichs Avenue). Pull weeds\, prune\, plant\, and work with some of the most knowledgeable gardeners around. City Park provides tools\, clean gloves\, water\, and insect repellent or you can bring your own. Pick a Friday (or two? or more?) and sign up at the City Park Conservancy Volunteer Calendar of Events webpage. If you have questions\, email team leaders Susan Norris-Davis or Jennifer Prout.
URL:https://npi-gno.org/event/every-friday-big-lake-native-plant-trail-restoration-project-12/
LOCATION:Big Lake\, City Park\,  7 Freiderichs Ave
ORGANIZER;CN="City Park Conservancy":MAILTO:info@nocp.org
END:VEVENT
BEGIN:VEVENT
DTSTART;TZID=America/Chicago:20260528T083000
DTEND;TZID=America/Chicago:20260528T103000
DTSTAMP:20260421T053332
CREATED:20260410T191734Z
LAST-MODIFIED:20260410T191734Z
UID:5691-1779957000-1779964200@npi-gno.org
SUMMARY:Gardening in Longue Vue's Native wildflower path
DESCRIPTION:Go a little wild with volunteer projects in Longue Vue’s native garden on the second to last Thursday of each month. Bring your own water bottle\, gloves\, hat\, and insect repellent. To sign up\, visit the Longue Vue volunteer webpage or email Leigh.
URL:https://npi-gno.org/event/gardening-in-longue-vues-native-wildflower-path-5/
LOCATION:Longue Vue\, 7 Bamboo Road\, New Orleans\, LA\, 70124\, United States
ORGANIZER;CN="Longue Vue":MAILTO:info@longuevue.com
END:VEVENT
END:VCALENDAR